BEGIN:VCALENDAR
VERSION:2.0
PRODID:-//Vienna Country &amp; Western Club - ECPv6.9.1//NONSGML v1.0//EN
CALSCALE:GREGORIAN
METHOD:PUBLISH
X-ORIGINAL-URL:https://www.vcwc.club
X-WR-CALDESC:Veranstaltungen für Vienna Country &amp; Western Club
REFRESH-INTERVAL;VALUE=DURATION:PT1H
X-Robots-Tag:noindex
X-PUBLISHED-TTL:PT1H
BEGIN:VTIMEZONE
TZID:Europe/Berlin
BEGIN:DAYLIGHT
TZOFFSETFROM:+0100
TZOFFSETTO:+0200
TZNAME:CEST
DTSTART:20260329T010000
END:DAYLIGHT
BEGIN:STANDARD
TZOFFSETFROM:+0200
TZOFFSETTO:+0100
TZNAME:CET
DTSTART:20261025T010000
END:STANDARD
END:VTIMEZONE
BEGIN:VEVENT
DTSTART;TZID=Europe/Berlin:20260425T190000
DTEND;TZID=Europe/Berlin:20260425T223000
DTSTAMP:20260424T122116
CREATED:20260303T005959Z
LAST-MODIFIED:20260303T005959Z
UID:1042-1777143600-1777156200@www.vcwc.club
SUMMARY:Roughroad
DESCRIPTION:
URL:https://www.vcwc.club/event/roughroad/
LOCATION:Vienna Coutry & Western Club\, Neilreichgasse 78\, Wien\, 1140\, Austria
END:VEVENT
END:VCALENDAR